BEGIN:VCALENDAR
VERSION:2.0
PRODID:-//Texta - ECPv6.15.4//NONSGML v1.0//EN
CALSCALE:GREGORIAN
METHOD:PUBLISH
X-WR-CALNAME:Texta
X-ORIGINAL-URL:https://texta.dk
X-WR-CALDESC:Begivenheder for Texta
REFRESH-INTERVAL;VALUE=DURATION:PT1H
X-Robots-Tag:noindex
X-PUBLISHED-TTL:PT1H
BEGIN:VTIMEZONE
TZID:Europe/Copenhagen
BEGIN:DAYLIGHT
TZOFFSETFROM:+0100
TZOFFSETTO:+0200
TZNAME:CEST
DTSTART:20230326T010000
END:DAYLIGHT
BEGIN:STANDARD
TZOFFSETFROM:+0200
TZOFFSETTO:+0100
TZNAME:CET
DTSTART:20231029T010000
END:STANDARD
END:VTIMEZONE
BEGIN:VEVENT
DTSTART;TZID=Europe/Copenhagen:20230824T083000
DTEND;TZID=Europe/Copenhagen:20230824T100000
DTSTAMP:20260422T231737
CREATED:20230801T083600Z
LAST-MODIFIED:20230814T095109Z
UID:14428-1692865800-1692871200@texta.dk
SUMMARY:Meningsfuld Morgen: Alle faser i Black Friday/Week/Month
DESCRIPTION:Deltag i vores event og find meningen med Black Friday/Week/Month. \nSå bliver du klar til kampen om kunderne. \nMed årets afslutning i horisonten nærmer en ekstremt vigtig periode sig for store og små webshops. Uanset om du er fan\, hader eller er ligeglad med Black Friday\, er det noget\, du skal forholde dig til. For dine kunder er højst sandsynligt ikke ligeglade. \nI denne udgave af Meningsfuld Morgen dykker vi ned i de ting\, du skal overveje\, have styr på og gøre op til\, under og efter Black Friday. \nDu kan blandt andet se frem til at høre om de mest værdifulde faser og teknikker: \n\nOptakt: budgettering\, planlægning og forberedelse.\nDagen før: fejl og faldgruber.\nPå dagen: fra A(nnoncering) til Z(ero-party data).\nDagen derpå: Black Weekend\, Cyber Monday og julesalget.\nTools\, trends og teknik.\n\nVi serverer morgenmad og sort kaffe\, og du får mulighed for at stille spørgsmål og vende dine overvejelser i plenum eller med oplægsholderen – vores CPO\, Peter Kragh Lauritsen. \nEventet afvikles i Holstebro hos Creativ Company. Adressen er Rasmus Færchs Vej 23\, 7500 Holstebro. \n\nTilmelding sker efter først-til-mølle-princippet\, og der er i alt 15 pladser tilgængelige. Din tilmelding er først registreret\, når du modtager en endelig bekræftelse. \n 
URL:https://texta.dk/event/meningsfuld-morgen-alle-faser-i-black-friday-week-month/
CATEGORIES:ecommerce
ATTACH;FMTTYPE=image/png:https://texta.dk/wp-content/uploads/meningsfuldmorgen-blackfriday-thumbnail_SMALL-1.png
ORGANIZER;CN="Texta":MAILTO:melanie@texta.dk
END:VEVENT
END:VCALENDAR